{
 "currentVersion": 11.3,
 "serviceDescription": "NDVI 2021",
 "name": "Ortofoto/NDVI2021",
 "description": "NDVI 2021",
 "extent": {
  "xmin": 170000,
  "ymin": 6404000,
  "xmax": 192000,
  "ymax": 6454000,
  "spatialReference": {
   "wkid": 3007,
   "latestWkid": 3007
  }
 },
 "initialExtent": {
  "xmin": 170000,
  "ymin": 6404000,
  "xmax": 192000,
  "ymax": 6454000,
  "spatialReference": {
   "wkid": 3007,
   "latestWkid": 3007
  }
 },
 "fullExtent": {
  "xmin": 170000,
  "ymin": 6404000,
  "xmax": 192000,
  "ymax": 6454000,
  "spatialReference": {
   "wkid": 3007,
   "latestWkid": 3007
  }
 },
 "sortableFields": "",
 "bandCount": 1,
 "pixelType": "F32",
 "minValues": [
  -1
 ],
 "maxValues": [
  1
 ],
 "meanValues": [
  0.26834848425975827
 ],
 "stdvValues": [
  0.16857398159297665
 ],
 "hasMultidimensions": false,
 "pixelSizeX": 0.1,
 "pixelSizeY": 0.1,
 "meanPixelSize": 0.1,
 "datasetFormat": "SDR",
 "uncompressedSize": 440000000000,
 "blockWidth": 128,
 "blockHeight": 128,
 "compressionType": "LZ77",
 "bandNames": [
  "Band_1"
 ],
 "allowCopy": true,
 "allowAnalysis": true,
 "itemAccess": false,
 "inspectionCapabilities": "",
 "minPixelSize": 0,
 "maxPixelSize": 0,
 "copyrightText": "",
 "serviceDataType": "esriImageServiceDataTypeGeneric",
 "serviceSourceType": "esriImageServiceSourceTypeDataset",
 "objectIdField": "",
 "fields": [],
 "capabilities": "Mensuration,Image,Metadata",
 "defaultMosaicMethod": "Center",
 "allowedMosaicMethods": "",
 "sortField": "",
 "sortValue": null,
 "sortAscending": true,
 "mosaicOperator": "First",
 "defaultCompressionQuality": 75,
 "defaultResamplingMethod": "Bilinear",
 "maxImageHeight": 4100,
 "maxImageWidth": 15000,
 "allowRasterFunction": true,
 "rasterFunctionInfos": [
  {
   "name": "None",
   "description": "",
   "help": ""
  }
 ],
 "rasterTypeInfos": [
  {
   "name": "Raster Dataset",
   "description": "Supports all ArcGIS Raster Datasets",
   "help": ""
  }
 ],
 "mensurationCapabilities": "Basic",
 "hasHistograms": true,
 "hasColormap": false,
 "hasRasterAttributeTable": false,
 "minScale": 0,
 "maxScale": 0,
 "exportTilesAllowed": false,
 "supportsStatistics": false,
 "supportsAdvancedQueries": false,
 "editFieldsInfo": null,
 "ownershipBasedAccessControlForRasters": null,
 "allowComputeTiePoints": false,
 "useStandardizedQueries": true,
 "advancedQueryCapabilities": {
  "useStandardizedQueries": true,
  "supportsStatistics": false,
  "supportsOrderBy": false,
  "supportsDistinct": false,
  "supportsPagination": false
 },
 "spatialReference": {
  "wkid": 3007,
  "latestWkid": 3007
 },
 "resampling": false
}
