{
 "currentVersion": 11.3,
 "serviceDescription": "Stralningstemperaturer/Stralningstemperatur_2040_rcp85",
 "name": "Stralningstemperaturer/Stralningstemperatur_2040_rcp85",
 "description": "",
 "extent": {
  "xmin": 168998.7321388419,
  "ymin": 6404456.035436709,
  "xmax": 193654.7321388419,
  "ymax": 6453824.035436709,
  "spatialReference": {
   "wkid": 3007,
   "latestWkid": 3007
  }
 },
 "initialExtent": {
  "xmin": 168998.7321388419,
  "ymin": 6404456.035436709,
  "xmax": 193654.7321388419,
  "ymax": 6453824.035436709,
  "spatialReference": {
   "wkid": 3007,
   "latestWkid": 3007
  }
 },
 "fullExtent": {
  "xmin": 168998.7321388419,
  "ymin": 6404456.035436709,
  "xmax": 193654.7321388419,
  "ymax": 6453824.035436709,
  "spatialReference": {
   "wkid": 3007,
   "latestWkid": 3007
  }
 },
 "sortableFields": "",
 "bandCount": 1,
 "pixelType": "F32",
 "minValues": [
  22.587154388427734
 ],
 "maxValues": [
  38.418907165527344
 ],
 "meanValues": [
  28.349122645001472
 ],
 "stdvValues": [
  2.1852541648098054
 ],
 "hasMultidimensions": false,
 "pixelSizeX": 2,
 "pixelSizeY": 2,
 "meanPixelSize": 2,
 "datasetFormat": "SDR",
 "uncompressedSize": 1217217408,
 "blockWidth": 128,
 "blockHeight": 128,
 "compressionType": "LZ77",
 "bandNames": [
  "Band_1"
 ],
 "allowCopy": true,
 "allowAnalysis": true,
 "itemAccess": false,
 "inspectionCapabilities": "",
 "minPixelSize": 0,
 "maxPixelSize": 0,
 "copyrightText": "",
 "serviceDataType": "esriImageServiceDataTypeGeneric",
 "serviceSourceType": "esriImageServiceSourceTypeDataset",
 "objectIdField": "",
 "fields": [],
 "capabilities": "Image,Metadata,Mensuration",
 "defaultMosaicMethod": "Center",
 "allowedMosaicMethods": "",
 "sortField": "",
 "sortValue": null,
 "sortAscending": true,
 "mosaicOperator": "First",
 "defaultCompressionQuality": 75,
 "defaultResamplingMethod": "Bilinear",
 "maxImageHeight": 4100,
 "maxImageWidth": 15000,
 "allowRasterFunction": true,
 "rasterFunctionInfos": [
  {
   "name": "Raster Function Template Stralningstemp_2040_rcp85",
   "description": "Denna raster-funktion används för tjänst Stalningstemperatur_2022 publicerad på gis-image. DD 2024-01-19",
   "help": ""
  },
  {
   "name": "None",
   "description": "",
   "help": ""
  }
 ],
 "rasterTypeInfos": [
  {
   "name": "Raster Dataset",
   "description": "Supports all ArcGIS Raster Datasets",
   "help": ""
  }
 ],
 "mensurationCapabilities": "Basic",
 "hasHistograms": true,
 "hasColormap": false,
 "hasRasterAttributeTable": false,
 "minScale": 0,
 "maxScale": 0,
 "exportTilesAllowed": false,
 "supportsStatistics": false,
 "supportsAdvancedQueries": false,
 "editFieldsInfo": null,
 "ownershipBasedAccessControlForRasters": null,
 "allowComputeTiePoints": false,
 "useStandardizedQueries": true,
 "advancedQueryCapabilities": {
  "useStandardizedQueries": true,
  "supportsStatistics": false,
  "supportsOrderBy": false,
  "supportsDistinct": false,
  "supportsPagination": false
 },
 "spatialReference": {
  "wkid": 3007,
  "latestWkid": 3007
 }
}
