View In:
ArcGIS JavaScript
ArcGIS Online Map Viewer
ArcGIS Earth
Service Description: Stralningstemperaturer/Riskklassificering_barn_2022
Name: Stralningstemperaturer/Riskklassificering_barn_2022
Description:
Single Fused Map Cache: false
Extent:
XMin: 168998.7321388419
YMin: 6404456.035436709
XMax: 193654.7321388419
YMax: 6453824.035436709
Spatial Reference: 3007
(3007)
LatestVCSWkid(0)
Initial Extent:
XMin: 168998.7321388419
YMin: 6404456.035436709
XMax: 193654.7321388419
YMax: 6453824.035436709
Spatial Reference: 3007
(3007)
LatestVCSWkid(0)
Full Extent:
XMin: 168998.7321388419
YMin: 6404456.035436709
XMax: 193654.7321388419
YMax: 6453824.035436709
Spatial Reference: 3007
(3007)
LatestVCSWkid(0)
Pixel Size X: 2.0
Pixel Size Y: 2.0
Band Count: 1
Pixel Type: F32
RasterFunction Infos: {"rasterFunctionInfos": [
{
"name": "Raster Function Template Riskklassificering_barn_2022",
"description": "Denna raster-funktion används för tjänst Riskklassificering_barn_2022 publicerad på gis-image. DD 2024-01-19",
"help": ""
},
{
"name": "None",
"description": "",
"help": ""
}
]}
Mensuration Capabilities: Basic
Inspection Capabilities:
Has Histograms: true
Has Colormap: false
Has Multi Dimensions : false
Rendering Rule:
Min Scale: 0
Max Scale: 0
Copyright Text:
Service Data Type: esriImageServiceDataTypeGeneric
Min Values: 0.5
Max Values: 5
Mean Values: 0.908355544085181
Standard Deviation Values: 0.5958788391619422
Object ID Field:
Fields:
None
Default Mosaic Method: Center
Allowed Mosaic Methods:
SortField:
SortValue: null
Mosaic Operator: First
Default Compression Quality: 75
Default Resampling Method: Bilinear
Max Record Count: null
Max Image Height: 4100
Max Image Width: 15000
Max Download Image Count: null
Max Mosaic Image Count: null
Allow Raster Function: true
Allow Copy: true
Allow Analysis: true
Allow Compute TiePoints: false
Supports Statistics: false
Supports Advanced Queries: false
Use StandardizedQueries: true
Raster Type Infos:
Name: Raster Dataset
Description: Supports all ArcGIS Raster Datasets
Help:
Has Raster Attribute Table: false
Edit Fields Info: null
Ownership Based AccessControl For Rasters: null
Child Resources:
Info
Histograms
Statistics
Key Properties
Legend
Raster Function Infos
Supported Operations:
Export Image
Identify
Measure
Compute Histograms
Compute Statistics Histograms
Get Samples
Compute Class Statistics
Query Boundary
Compute Pixel Location
Compute Angles
Validate
Project