View In:
ArcGIS JavaScript
ArcGIS Online Map Viewer
ArcGIS Earth
Service Description: NDVI 2021
Name: Ortofoto/NDVI2021
Description: NDVI 2021
Single Fused Map Cache: false
Extent:
XMin: 170000.0
YMin: 6404000.0
XMax: 192000.0
YMax: 6454000.0
Spatial Reference: 3007
(3007)
LatestVCSWkid(0)
Initial Extent:
XMin: 170000.0
YMin: 6404000.0
XMax: 192000.0
YMax: 6454000.0
Spatial Reference: 3007
(3007)
LatestVCSWkid(0)
Full Extent:
XMin: 170000.0
YMin: 6404000.0
XMax: 192000.0
YMax: 6454000.0
Spatial Reference: 3007
(3007)
LatestVCSWkid(0)
Pixel Size X: 0.1
Pixel Size Y: 0.1
Band Count: 1
Pixel Type: F32
RasterFunction Infos: {"rasterFunctionInfos": [{
"name": "None",
"description": "",
"help": ""
}]}
Mensuration Capabilities: Basic
Inspection Capabilities:
Has Histograms: true
Has Colormap: false
Has Multi Dimensions : false
Rendering Rule:
Min Scale: 0
Max Scale: 0
Resampling: false
Copyright Text:
Service Data Type: esriImageServiceDataTypeGeneric
Min Values: -1
Max Values: 1
Mean Values: 0.26834848425975827
Standard Deviation Values: 0.16857398159297665
Object ID Field:
Fields:
None
Default Mosaic Method: Center
Allowed Mosaic Methods:
SortField:
SortValue: null
Mosaic Operator: First
Default Compression Quality: 75
Default Resampling Method: Bilinear
Max Record Count: null
Max Image Height: 4100
Max Image Width: 15000
Max Download Image Count: null
Max Mosaic Image Count: null
Allow Raster Function: true
Allow Copy: true
Allow Analysis: true
Allow Compute TiePoints: false
Supports Statistics: false
Supports Advanced Queries: false
Use StandardizedQueries: true
Raster Type Infos:
Name: Raster Dataset
Description: Supports all ArcGIS Raster Datasets
Help:
Has Raster Attribute Table: false
Edit Fields Info: null
Ownership Based AccessControl For Rasters: null
Child Resources:
Info
Histograms
Statistics
Key Properties
Legend
Raster Function Infos
Supported Operations:
Export Image
Identify
Measure
Compute Histograms
Compute Statistics Histograms
Get Samples
Compute Class Statistics
Query Boundary
Compute Pixel Location
Compute Angles
Validate
Project